Workbook

Sheet 1
A1: Школа | B1: МБОУ Башкирская гимназия с. Учалы МР Учалинский район РБ | E1: Отд./корп | I1: День | J1: 46013
A3: Прием пищи | B3: Раздел | C3: № рец. | D3: Блюдо | E3: Выход, г | F3: Цена | G3: Калорийность | H3: Белки | I3: Жиры | J3: Углеводы
A4: Завтрак | B4: гор. блюдо | C4: 191 | D4: Каша рисовая молочная вязкая | E4: 180/5 | F4: 25 | G4: 229 | H4: 5.2 | I4: 7.1 | J4: 35.2
B5: гарнир
B6: гор.напиток | C6: 300 | D6: Чай с сахаром | E6: 200 | F6: 10 | G6: 25 | H6: 0.1 | I6: 0.03 | J6: 9.1
B8: хлеб | C8: 1,5 | D8: Хлеб пшеничный | E8: 50 | F8: 5 | G8: 123 | H8: 4 | I8: 0.05 | J8: 27.5
A9: Завтрак 2 | D9: =[1]начальн.кл!D121 -> итого | E9: =[1]начальн.кл!E121 -> 0 | F9: =[1]начальн.кл!F121 -> 40 | G9: =[1]начальн.кл!G121 -> 377 | H9: =[1]начальн.кл!H121 -> 9.3 | I9: =[1]начальн.кл!I121 -> 7.18 | J9: =[1]начальн.кл!J121 -> 71.8
B12: закуска
A13: Обед | B13: 1 блюдо | C13: =[2]Лист2!C220 -> 67 | D13: =[2]Лист2!D220 -> Суп картофельный с бобовыми | E13: =[2]Лист2!E220 -> 250 | F13: =[2]Лист2!F220 -> 25 | G13: =[2]Лист2!G220 -> 211.25 | H13: =[2]Лист2!H220 -> 7.75 | I13: =[2]Лист2!I220 -> 5.12 | J13: =[2]Лист2!J220 -> 31.87
B14: 2 блюдо | C14: =[2]Лист2!C221 -> 96 | D14: =[2]Лист2!D221 -> Гуляш из куриного филе | E14: =[2]Лист2!E221 -> 100 | F14: =[2]Лист2!F221 -> 65 | G14: =[2]Лист2!G221 -> 199 | H14: =[2]Лист2!H221 -> 13.8 | I14: =[2]Лист2!I221 -> 14.5 | J14: =[2]Лист2!J221 -> 3.2
B15: гарнир | C15: =[2]Лист2!C222 -> 227 | D15: =[2]Лист2!D222 -> Макаронные изделия отварные | E15: =[2]Лист2!E222 -> 185 | F15: =[2]Лист2!F222 -> 20 | G15: =[2]Лист2!G222 -> 235.2 | H15: =[2]Лист2!H222 -> 6.6 | I15: =[2]Лист2!I222 -> 5.04 | J15: =[2]Лист2!J222 -> 39.96
B16: хол напиток | C16: =[2]Лист2!C223 -> 310 | D16: =[2]Лист2!D223 -> Компот из смеси сухофруктов | E16: =[2]Лист2!E223 -> 200 | F16: =[2]Лист2!F223 -> 10 | G16: =[2]Лист2!G223 -> 110 | H16: =[2]Лист2!H223 -> 1 | I16: =[2]Лист2!I223 -> 0.05 | J16: =[2]Лист2!J223 -> 27.5
B17: хлеб бел | C17: =[2]Лист2!C224 -> 1,5 | D17: =[2]Лист2!D224 -> Хлеб пшеничный | E17: =[2]Лист2!E224 -> 50 | F17: =[2]Лист2!F224 -> 5 | G17: =[2]Лист2!G224 -> 123 | H17: =[2]Лист2!H224 -> 4 | I17: =[2]Лист2!I224 -> 0.05 | J17: =[2]Лист2!J224 -> 27.5
B18: хлеб рж | C18: =[2]Лист2!C225 -> 2 | D18: =[2]Лист2!D225 -> Хлеб ржаной-пшеничный | E18: =[2]Лист2!E225 -> 50 | F18: =[2]Лист2!F225 -> 5 | G18: =[2]Лист2!G225 -> 115.2 | H18: =[2]Лист2!H225 -> 3,1 | I18: =[2]Лист2!I225 -> 0,54 | J18: =[2]Лист2!J225 -> 19,44
C19: =[2]Лист2!C226 -> 0 | D19: =[2]Лист2!D226 -> Итого | E19: =[2]Лист2!E226 -> 0 | F19: =[2]Лист2!F226 -> 170 | G19: =[2]Лист2!G226 -> 654.35 | H19: =[2]Лист2!H226 -> 21,87 | I19: =[2]Лист2!I226 -> 13,86 | J19: =[2]Лист2!J226 -> 98,45
