{"text_format":"3","workbook":"xlsx","n_sheets":1,"sheets":["1"],"not_rendered":{"external_links":1},"read":"whole","date_system":"1900"}

{"sheet":"1","index":0,"n_rows":19,"n_cols":10,"rows_kept":19,"merged":[[0,1,0,3]]}
["Школа","МБОУ Башкирская гимназия с. Учалы МР Учалинский район РБ",null,null,"Отд./корп",{"$nulls":3},"День","2025-12-10"]
[]
["Прием пищи","Раздел","№ рец.","Блюдо","Выход, г","Цена","Калорийность","Белки","Жиры","Углеводы"]
["Завтрак","гор. блюдо",126,"Голубцы ленивые ","70/30",50,98,6,5.2,6.2]
[null,"гарнир",227,"Макароны отварные с маслом","180/5",20,233,6.5,4.4,40]
[null,"гор.напиток","310","Компот из смеси сухофруктов",200,10,110,1,0.05,27.5]
[]
[null,"хлеб ","1,5","Хлеб пшеничный ",50,5,123,4,0.05,27.5]
["Завтрак 2",null,null,"итого",null,{"$f":"F5+F6+F7+F8","v":35},{"$f":"G5+G6+G7+G8","v":466},{"$f":"H5+H6+H7+H8","v":11.5},{"$f":"I5+I6+I7+I8","v":4.5},{"$f":"J5+J6+J7+J8","v":95}]
[]
[]
[null,"закуска"]
["Обед","1 блюдо",{"$f":"[1]Лист2!C114","v":62},{"$f":"[1]Лист2!D114","v":"Суп картофельный с лапшой домашней"},{"$f":"[1]Лист2!E114","v":250},{"$f":"[1]Лист2!F114","v":25},{"$f":"[1]Лист2!G114","v":141},{"$f":"[1]Лист2!H114","v":3.2},{"$f":"[1]Лист2!I114","v":3.6},{"$f":"[1]Лист2!J114","v":23}]
[null,"2 блюдо",{"$f":"[1]Лист2!C115","v":"143"},{"$f":"[1]Лист2!D115","v":"Птица, тушеная в соусе с овощами"},{"$f":"[1]Лист2!E115","v":230},{"$f":"[1]Лист2!F115","v":40},{"$f":"[1]Лист2!G115","v":357},{"$f":"[1]Лист2!H115","v":23.9},{"$f":"[1]Лист2!I115","v":18.8},{"$f":"[1]Лист2!J115","v":"21,1"}]
[null,"гарнир"]
[null,"хол напиток",{"$f":"[1]Лист2!C116","v":"302"},{"$f":"[1]Лист2!D116","v":"Чай с лимоном "},{"$f":"[1]Лист2!E116","v":"200/7"},{"$f":"[1]Лист2!F116","v":15},{"$f":"[1]Лист2!G116","v":54},{"$f":"[1]Лист2!H116","v":0},{"$f":"[1]Лист2!I116","v":0},{"$f":"[1]Лист2!J116","v":14}]
[null,"хлеб бел",{"$f":"[1]Лист2!C117","v":"1,5"},{"$f":"[1]Лист2!D117","v":"Хлеб пшеничный "},{"$f":"[1]Лист2!E117","v":50},{"$f":"[1]Лист2!F117","v":5},{"$f":"[1]Лист2!G117","v":123},{"$f":"[1]Лист2!H117","v":4},{"$f":"[1]Лист2!I117","v":0.05},{"$f":"[1]Лист2!J117","v":27.5}]
[null,"хлеб рж",{"$f":"[1]Лист2!C118","v":2},{"$f":"[1]Лист2!D118","v":"Хлеб ржаной-пшеничный "},{"$f":"[1]Лист2!E118","v":50},{"$f":"[1]Лист2!F118","v":5},{"$f":"[1]Лист2!G118","v":115.2},{"$f":"[1]Лист2!H118","v":"3,1"},{"$f":"[1]Лист2!I118","v":"0,54"},{"$f":"[1]Лист2!J118","v":"19,44"}]
[null,null,{"$f":"[1]Лист2!C119","v":0},{"$f":"[1]Лист2!D119","v":"Итого:"},{"$f":"[1]Лист2!E119","v":0},{"$f":"[1]Лист2!F119","v":100},{"$f":"[1]Лист2!G119","v":804.3},{"$f":"[1]Лист2!H119","v":24.86},{"$f":"[1]Лист2!I119","v":25.04},{"$f":"[1]Лист2!J119","v":120.98}]