{"text_format":"3","workbook":"xlsx","n_sheets":1,"sheets":["1"],"not_rendered":{"external_links":2},"read":"whole","date_system":"1900"}

{"sheet":"1","index":0,"n_rows":19,"n_cols":10,"rows_kept":19,"merged":[[0,1,0,3]]}
["Школа","МБОУ Башкирская гимназия с. Учалы МР Учалинский район РБ",null,null,"Отд./корп",{"$nulls":3},"День","2025-11-10"]
[]
["Прием пищи","Раздел","№ рец.","Блюдо","Выход, г","Цена","Калорийность","Белки","Жиры","Углеводы"]
["Завтрак","гор. блюдо",193,"Каша гречневая молочная вязкая",155,20,200,68,6.7,27.6]
[null,"гарнир"]
[null,"гор.напиток","196","Чай с лимоном и сахаром",207,15,54,0,0,14]
[null,"конд. Изд",4,"Кондитерское изделие ",55,15,144,2.4,4.25,22.2]
[null,"хлеб ",5,"Хлеб пшеничный",45,5,103.95,3.37,0.45,21.6]
["Завтрак 2",null,null,{"$f":"[2]начальн.кл!D39","v":"итого"},{"$f":"[2]начальн.кл!E39","v":0},{"$f":"[2]начальн.кл!F39","v":55},{"$f":"[2]начальн.кл!G39","v":501.95},{"$f":"[2]начальн.кл!H39","v":73.77000000000001},{"$f":"[2]начальн.кл!I39","v":11.4},{"$f":"[2]начальн.кл!J39","v":85.4}]
[]
[]
[null,"закуска"]
["Обед","1 блюдо",{"$f":"[1]Лист2!C59","v":64},{"$f":"[1]Лист2!D59","v":"Суп картофельный с лапшой домашней"},{"$f":"[1]Лист2!E59","v":250},{"$f":"[1]Лист2!F59","v":25},{"$f":"[1]Лист2!G59","v":110},{"$f":"[1]Лист2!H59","v":2.87},{"$f":"[1]Лист2!I59","v":2.75},{"$f":"[1]Лист2!J59","v":17.87}]
[null,"2 блюдо",{"$f":"[1]Лист2!C60","v":"85"},{"$f":"[1]Лист2!D60","v":"Запеканка картофельная с мясом с соусом томатным"},{"$f":"[1]Лист2!E60","v":200},{"$f":"[1]Лист2!F60","v":40},{"$f":"[1]Лист2!G60","v":277},{"$f":"[1]Лист2!H60","v":13.2},{"$f":"[1]Лист2!I60","v":14.7},{"$f":"[1]Лист2!J60","v":22.4}]
[null,"гарнир"]
[null,"хол напиток",{"$f":"[1]Лист2!C61","v":"184"},{"$f":"[1]Лист2!D61","v":"Чай с сахаром"},{"$f":"[1]Лист2!E61","v":200},{"$f":"[1]Лист2!F61","v":10},{"$f":"[1]Лист2!G61","v":56.8},{"$f":"[1]Лист2!H61","v":0.06},{"$f":"[1]Лист2!I61","v":0},{"$f":"[1]Лист2!J61","v":14.98}]
[null,"хлеб бел",{"$f":"[1]Лист2!C62","v":"1.1"},{"$f":"[1]Лист2!D62","v":"Хлеб пшеничный "},{"$f":"[1]Лист2!E62","v":50},{"$f":"[1]Лист2!F62","v":5},{"$f":"[1]Лист2!G62","v":130},{"$f":"[1]Лист2!H62","v":4},{"$f":"[1]Лист2!I62","v":0.05},{"$f":"[1]Лист2!J62","v":27.5}]
[null,"хлеб рж",{"$f":"[1]Лист2!C63","v":"1.2"},{"$f":"[1]Лист2!D63","v":"Хлеб ржаной"},{"$f":"[1]Лист2!E63","v":50},{"$f":"[1]Лист2!F63","v":5},{"$f":"[1]Лист2!G63","v":63},{"$f":"[1]Лист2!H63","v":1.5},{"$f":"[1]Лист2!I63","v":0.3},{"$f":"[1]Лист2!J63","v":14}]
[null,null,{"$f":"[1]Лист2!C64","v":0},{"$f":"[1]Лист2!D64","v":"Итого:"},{"$f":"[1]Лист2!E64","v":0},{"$f":"[1]Лист2!F64","v":80},{"$f":"[1]Лист2!G64","v":625.22},{"$f":"[1]Лист2!H64","v":21.1},{"$f":"[1]Лист2!I64","v":19.72},{"$f":"[1]Лист2!J64","v":90.6}]