Workbook

Sheet 1
A1: Школа | B1: МБОУ Башкирская гимназия с. Учалы МР Учалинский район РБ | E1: Отд./корп | I1: День | J1: 45954
A3: Прием пищи | B3: Раздел | C3: № рец. | D3: Блюдо | E3: Выход, г | F3: Цена | G3: Калорийность | H3: Белки | I3: Жиры | J3: Углеводы
A4: Завтрак | B4: гор. блюдо | C4: 100 | D4: Плов из мяса птицы | E4: 200 | F4: 35 | G4: 433 | H4: 18.6 | I4: 22.1 | J4: 39.3
B5: гарнир | C5: 276 | D5: Компот из смеси сухофруктов | E5: 200 | F5: 10 | G5: 110 | H5: 1 | I5: 0.05 | J5: 27.5
B6: гор.напиток
B7: конд. Изд
B8: хлеб | C8: =[1]начальн.кл!C136 -> 1.1 | D8: =[1]начальн.кл!D136 -> Хлеб пшеничный | E8: =[1]начальн.кл!E136 -> 50 | F8: =[1]начальн.кл!F136 -> 5 | G8: =[1]начальн.кл!G136 -> 130 | H8: =[1]начальн.кл!H136 -> 4 | I8: =[1]начальн.кл!I136 -> 0.05 | J8: =[1]начальн.кл!J136 -> 27.5
A9: Завтрак 2 | C9: =[1]начальн.кл!C137 -> 0 | D9: =[1]начальн.кл!D137 -> итого | E9: =[1]начальн.кл!E137 -> 0 | F9: =[1]начальн.кл!F137 -> 50 | G9: =[1]начальн.кл!G137 -> 673 | H9: =[1]начальн.кл!H137 -> 23.6 | I9: =[1]начальн.кл!I137 -> 22.2 | J9: =[1]начальн.кл!J137 -> 94.3
B12: закуска
A13: Обед | B13: 1 блюдо | C13: 17 | D13: Суп крестьянский с крупой | E13: 250 | F13: 25 | G13: 120 | H13: 2.4 | I13: 7 | J13: 12
B14: 2 блюдо | C14: 98 | D14: Котлеты из говядины | E14: 100 | F14: 45 | G14: 278 | H14: 17 | I14: 16 | J14: 17
B15: гарнир | C15: 212 | D15: Макаронные изделия отварные с маслом | E15: 200 | F15: 25 | G15: 211 | H15: 6 | I15: 4 | J15: 37
B16: хол напиток | C16: 184 | D16: Чай сахаром | E16: 200 | F16: 10 | G16: 57 | H16: 0.06 | I16: 0 | J16: 14.98
B17: хлеб бел | C17: 1.2 | D17: Хлеб пшеничный | E17: 50 | F17: 5 | G17: 70.5 | H17: 2.2 | I17: 0.24 | J17: 15
B18: хлеб рж | C18: 1.1 | D18: Хлеб ржаной | E18: 50 | F18: 5 | G18: 63 | H18: 1.5 | I18: 0.3 | J18: 14
D19: Итого: | F19: =SUM(F13:F18) -> 115 | G19: =SUM(G13:G18) -> 799.5 | H19: =SUM(H13:H18) -> 29.16 | I19: =SUM(I13:I18) -> 27.54 | J19: =SUM(J13:J18) -> 109.98
