Workbook

Sheet 1
A1: Школа | B1: МБОУ Башкирская гимназия с. Учалы МР Учалинский район РБ | E1: Отд./корп | I1: День | J1: 45953
A3: Прием пищи | B3: Раздел | C3: № рец. | D3: Блюдо | E3: Выход, г | F3: Цена | G3: Калорийность | H3: Белки | I3: Жиры | J3: Углеводы
A4: Завтрак | B4: гор. блюдо | C4: =[1]начальн.кл!C127 -> 42 | D4: =[1]начальн.кл!D127 -> Каша пшеничная вязкая с маслом | E4: =[1]начальн.кл!E127 -> 208 | F4: =[1]начальн.кл!F127 -> 20 | G4: =[1]начальн.кл!G127 -> 272 | H4: =[1]начальн.кл!H127 -> 8.35 | I4: =[1]начальн.кл!I127 -> 9.55 | J4: =[1]начальн.кл!J127 -> 37.95
B5: гарнир | C5: =[1]начальн.кл!C128 -> 184 | D5: =[1]начальн.кл!D128 -> Чай сахаром | E5: =[1]начальн.кл!E128 -> 200 | F5: =[1]начальн.кл!F128 -> 10 | G5: =[1]начальн.кл!G128 -> 57 | H5: =[1]начальн.кл!H128 -> 0.06 | I5: =[1]начальн.кл!I128 -> 0 | J5: =[1]начальн.кл!J128 -> 14.98
B6: гор.напиток
B7: конд. Изд | C7: =[1]начальн.кл!C129 -> 20 | D7: =[1]начальн.кл!D129 -> Печенье сахарное | E7: =[1]начальн.кл!E129 -> 50 | F7: =[1]начальн.кл!F129 -> 15 | G7: =[1]начальн.кл!G129 -> 208 | H7: =[1]начальн.кл!H129 -> 5 | I7: =[1]начальн.кл!I129 -> 2.5 | J7: =[1]начальн.кл!J129 -> 45
B8: хлеб | C8: =[1]начальн.кл!C130 -> 1.1 | D8: =[1]начальн.кл!D130 -> хлеб пшеничный | E8: =[1]начальн.кл!E130 -> 50 | F8: =[1]начальн.кл!F130 -> 5 | G8: =[1]начальн.кл!G130 -> 130 | H8: =[1]начальн.кл!H130 -> 4 | I8: =[1]начальн.кл!I130 -> 0.05 | J8: =[1]начальн.кл!J130 -> 27.5
A9: Завтрак 2 | D9: =[1]начальн.кл!D131 -> итого | E9: =[1]начальн.кл!E131 -> 0 | F9: =[1]начальн.кл!F131 -> 50 | G9: =[1]начальн.кл!G131 -> 667 | H9: =[1]начальн.кл!H131 -> 17.41 | I9: =[1]начальн.кл!I131 -> 12.1 | J9: =[1]начальн.кл!J131 -> 125.43
B12: закуска
A13: Обед | B13: 1 блюдо | C13: =[2]Лист2!C224 -> 35 | D13: =[2]Лист2!D224 -> Щи по-уральски с крупой со сметаной | E13: =[2]Лист2!E224 -> 250 | F13: =[2]Лист2!F224 -> 25 | G13: =[2]Лист2!G224 -> 89 | H13: =[2]Лист2!H224 -> 2.2 | I13: =[2]Лист2!I224 -> 5.7 | J13: =[2]Лист2!J224 -> 8.6
B14: 2 блюдо | C14: =[2]Лист2!C225 -> 101 | D14: =[2]Лист2!D225 -> Птица, тушенная с овощами | E14: =[2]Лист2!E225 -> 200 | F14: =[2]Лист2!F225 -> 50 | G14: =[2]Лист2!G225 -> 360 | H14: =[2]Лист2!H225 -> 20 | I14: =[2]Лист2!I225 -> 20.4 | J14: =[2]Лист2!J225 -> 18.2
B15: гарнир
B16: хол напиток | C16: =[2]Лист2!C226 -> 196 | D16: =[2]Лист2!D226 -> Чай с лимоном и сахаром | E16: =[2]Лист2!E226 -> 207 | F16: =[2]Лист2!F226 -> 10 | G16: =[2]Лист2!G226 -> 54 | H16: =[2]Лист2!H226 -> 0 | I16: =[2]Лист2!I226 -> 0 | J16: =[2]Лист2!J226 -> 14
B17: хлеб бел | C17: =[2]Лист2!C227 -> 1.1 | D17: =[2]Лист2!D227 -> Хлеб пшеничный | E17: =[2]Лист2!E227 -> 55 | F17: =[2]Лист2!F227 -> 5 | G17: =[2]Лист2!G227 -> 130 | H17: =[2]Лист2!H227 -> 4.3 | I17: =[2]Лист2!I227 -> 0.6 | J17: =[2]Лист2!J227 -> 26.6
B18: хлеб рж | C18: =[2]Лист2!C228 -> 1.2 | D18: =[2]Лист2!D228 -> Хлеб ржаной | E18: =[2]Лист2!E228 -> 40 | F18: =[2]Лист2!F228 -> 5 | G18: =[2]Лист2!G228 -> 77 | H18: =[2]Лист2!H228 -> 2.6 | I18: =[2]Лист2!I228 -> 0.5 | J18: =[2]Лист2!J228 -> 13.4
D19: =[2]Лист2!D229 -> Итого: | E19: =[2]Лист2!E229 -> 0 | F19: =[2]Лист2!F229 -> 90 | G19: =[2]Лист2!G229 -> 710 | H19: =[2]Лист2!H229 -> 29.1 | I19: =[2]Лист2!I229 -> 27.2 | J19: =[2]Лист2!J229 -> 80.8
