{"text_format":"3","workbook":"xlsx","n_sheets":1,"sheets":["1"],"not_rendered":{"external_links":2},"read":"whole","date_system":"1900"}

{"sheet":"1","index":0,"n_rows":19,"n_cols":10,"rows_kept":19,"merged":[[0,1,0,3]]}
["Школа","МБОУ Башкирская гимназия с. Учалы МР Учалинский район РБ",null,null,"Отд./корп",{"$nulls":3},"День","2025-10-03"]
[]
["Прием пищи","Раздел","№ рец.","Блюдо","Выход, г","Цена","Калорийность","Белки","Жиры","Углеводы"]
["Завтрак","гор. блюдо",{"$f":"[1]начальн.кл!C31","v":"80"},{"$f":"[1]начальн.кл!D31","v":"Котлеты рыбные"},{"$f":"[1]начальн.кл!E31","v":105},{"$f":"[1]начальн.кл!F31","v":40},{"$f":"[1]начальн.кл!G31","v":115},{"$f":"[1]начальн.кл!H31","v":14},{"$f":"[1]начальн.кл!I31","v":5},{"$f":"[1]начальн.кл!J31","v":4}]
[null,"гарнир",{"$f":"[1]начальн.кл!C32","v":"138"},{"$f":"[1]начальн.кл!D32","v":"Пюре картофельное с слив. маслом"},{"$f":"[1]начальн.кл!E32","v":210},{"$f":"[1]начальн.кл!F32","v":20},{"$f":"[1]начальн.кл!G32","v":263},{"$f":"[1]начальн.кл!H32","v":4.1},{"$f":"[1]начальн.кл!I32","v":14},{"$f":"[1]начальн.кл!J32","v":30}]
[null,"гор.напиток",{"$f":"[1]начальн.кл!C33","v":"276"},{"$f":"[1]начальн.кл!D33","v":"Компот из смеси сухофруктов"},{"$f":"[1]начальн.кл!E33","v":200},{"$f":"[1]начальн.кл!F33","v":10},{"$f":"[1]начальн.кл!G33","v":110},{"$f":"[1]начальн.кл!H33","v":1},{"$f":"[1]начальн.кл!I33","v":0.05},{"$f":"[1]начальн.кл!J33","v":27.5}]
[null,"конд. Изд",{"$f":"[1]начальн.кл!C34","v":"1.1"}]
[null,"хлеб ",{"$f":"[1]начальн.кл!C35","v":0},{"$f":"[1]начальн.кл!D34","v":"Хлеб"},{"$f":"[1]начальн.кл!E34","v":50},{"$f":"[1]начальн.кл!F34","v":5},{"$f":"[1]начальн.кл!G34","v":130},{"$f":"[1]начальн.кл!H34","v":4},{"$f":"[1]начальн.кл!I34","v":0.05},{"$f":"[1]начальн.кл!J34","v":27.5}]
["Завтрак 2",null,null,{"$f":"[1]начальн.кл!D35","v":"итого"},{"$f":"[1]начальн.кл!E35","v":0},{"$f":"[1]начальн.кл!F35","v":75},{"$f":"[1]начальн.кл!G35","v":618},{"$f":"[1]начальн.кл!H35","v":23.1},{"$f":"[1]начальн.кл!I35","v":19.1},{"$f":"[1]начальн.кл!J35","v":89}]
[]
[]
[null,"закуска"]
["Обед","1 блюдо",{"$f":"[2]Лист2!C46","v":"19"},{"$f":"[2]Лист2!D46","v":"Свекольник "},{"$f":"[2]Лист2!E46","v":250},{"$f":"[2]Лист2!F46","v":25},{"$f":"[2]Лист2!G46","v":101},{"$f":"[2]Лист2!H46","v":1.7},{"$f":"[2]Лист2!I46","v":4.9},{"$f":"[2]Лист2!J46","v":12.5}]
[null,"2 блюдо",{"$f":"[2]Лист2!C47","v":"98"},{"$f":"[2]Лист2!D47","v":"Биточек из говядины"},{"$f":"[2]Лист2!E47","v":90},{"$f":"[2]Лист2!F47","v":40},{"$f":"[2]Лист2!G47","v":278},{"$f":"[2]Лист2!H47","v":17},{"$f":"[2]Лист2!I47","v":16},{"$f":"[2]Лист2!J47","v":17}]
[null,"гарнир",{"$f":"[2]Лист2!C48","v":"106"},{"$f":"[2]Лист2!D48","v":"Морковь, тушенная с рисом"},{"$f":"[2]Лист2!E48","v":200},{"$f":"[2]Лист2!F48","v":15},{"$f":"[2]Лист2!G48","v":243},{"$f":"[2]Лист2!H48","v":4},{"$f":"[2]Лист2!I48","v":12},{"$f":"[2]Лист2!J48","v":26}]
[null,"хол напиток",{"$f":"[2]Лист2!C49","v":"184"},{"$f":"[2]Лист2!D49","v":"Чай с сахаром"},{"$f":"[2]Лист2!E49","v":200},{"$f":"[2]Лист2!F49","v":10},{"$f":"[2]Лист2!G49","v":56.8},{"$f":"[2]Лист2!H49","v":0.06},{"$f":"[2]Лист2!I49","v":0},{"$f":"[2]Лист2!J49","v":14.98}]
[null,"хлеб бел",{"$f":"[2]Лист2!C50","v":"1.1"},{"$f":"[2]Лист2!D50","v":"Хлеб пшеничный "},{"$f":"[2]Лист2!E50","v":50},{"$f":"[2]Лист2!F50","v":5},{"$f":"[2]Лист2!G50","v":70.5},{"$f":"[2]Лист2!H50","v":2.2},{"$f":"[2]Лист2!I50","v":0.24},{"$f":"[2]Лист2!J50","v":15}]
[null,"хлеб рж",{"$f":"[2]Лист2!C51","v":"1.2"},{"$f":"[2]Лист2!D51","v":"Хлеб ржаной"},{"$f":"[2]Лист2!E51","v":50},{"$f":"[2]Лист2!F51","v":5},{"$f":"[2]Лист2!G51","v":63},{"$f":"[2]Лист2!H51","v":1.5},{"$f":"[2]Лист2!I51","v":0.3},{"$f":"[2]Лист2!J51","v":14}]
[null,null,{"$f":"[2]Лист2!C52","v":0},{"$f":"[2]Лист2!D52","v":"Итого:"},{"$f":"[2]Лист2!E52","v":0},{"$f":"[2]Лист2!F52","v":90},{"$f":"[2]Лист2!G52","v":812.3},{"$f":"[2]Лист2!H52","v":24.759999999999998},{"$f":"[2]Лист2!I52","v":28.54},{"$f":"[2]Лист2!J52","v":86.98}]