Workbook

Sheet 1
A1: Школа | B1: МБОУ Башкирская гимназия с. Учалы МР Учалинский район РБ | E1: Отд./корп | I1: День | J1: 45923
A3: Прием пищи | B3: Раздел | C3: № рец. | D3: Блюдо | E3: Выход, г | F3: Цена | G3: Калорийность | H3: Белки | I3: Жиры | J3: Углеводы
A4: Завтрак | B4: гор. блюдо | C4: =[1]начальн.кл!C135 -> 500 | D4: =[1]начальн.кл!D135 -> Биточки рубленные | E4: =[1]начальн.кл!E135 -> 60 | F4: =[1]начальн.кл!F135 -> 40 | G4: =[1]начальн.кл!G135 -> 157 | H4: =[1]начальн.кл!H135 -> 10 | I4: =[1]начальн.кл!I135 -> 11 | J4: =[1]начальн.кл!J135 -> 6
B5: гарнир | C5: =[1]начальн.кл!C136 -> 212 | D5: =[1]начальн.кл!D136 -> Макаронные изделия отварные | E5: =[1]начальн.кл!E136 -> 205 | F5: =[1]начальн.кл!F136 -> 20 | G5: =[1]начальн.кл!G136 -> 270 | H5: =[1]начальн.кл!H136 -> 7.7 | I5: =[1]начальн.кл!I136 -> 4.5 | J5: =[1]начальн.кл!J136 -> 49
B6: гор.напиток | C6: =[1]начальн.кл!C137 -> 196 | D6: =[1]начальн.кл!D137 -> Чай с сахаром | E6: =[1]начальн.кл!E137 -> 207 | F6: =[1]начальн.кл!F137 -> 10 | G6: =[1]начальн.кл!G137 -> 54 | H6: =[1]начальн.кл!H137 -> 0 | I6: =[1]начальн.кл!I137 -> 0 | J6: =[1]начальн.кл!J137 -> 14
B7: конд. Изд
B8: хлеб | C8: =[1]начальн.кл!C138 -> 1.1 | D8: =[1]начальн.кл!D138 -> хлеб пшеничный | E8: =[1]начальн.кл!E138 -> 50 | F8: =[1]начальн.кл!F138 -> 5 | G8: =[1]начальн.кл!G138 -> 130 | H8: =[1]начальн.кл!H138 -> 4 | I8: =[1]начальн.кл!I138 -> 0.05 | J8: =[1]начальн.кл!J138 -> 27.5
A9: Завтрак 2 | D9: =[1]начальн.кл!D139 -> итого | E9: =[1]начальн.кл!E139 -> 0 | F9: =[1]начальн.кл!F139 -> 75 | G9: =[1]начальн.кл!G139 -> 611 | H9: =[1]начальн.кл!H139 -> 21.7 | I9: =[1]начальн.кл!I139 -> 15.55 | J9: =[1]начальн.кл!J139 -> 96.5
B12: закуска
A13: Обед | B13: 1 блюдо | C13: =[2]Лист2!C236 -> 11 | D13: =[2]Лист2!D236 -> Щи из свежей капусты с картофелем | E13: =[2]Лист2!E236 -> 250 | F13: =[2]Лист2!F236 -> 25 | G13: =[2]Лист2!G236 -> 88 | H13: =[2]Лист2!H236 -> 2.1 | I13: =[2]Лист2!I236 -> 5.6 | J13: =[2]Лист2!J236 -> 7.3
B14: 2 блюдо | C14: =[2]Лист2!C237 -> 469 | D14: =[2]Лист2!D237 -> Фрикадельки мясные | E14: =[2]Лист2!E237 -> 100 | F14: =[2]Лист2!F237 -> 45 | G14: =[2]Лист2!G237 -> 252 | H14: =[2]Лист2!H237 -> 16 | I14: =[2]Лист2!I237 -> 14 | J14: =[2]Лист2!J237 -> 15
B15: гарнир | C15: =[2]Лист2!C238 -> 138 | D15: =[2]Лист2!D238 -> Пюре картофельное с маслом слив | E15: =[2]Лист2!E238 -> 210 | F15: =[2]Лист2!F238 -> 20 | G15: =[2]Лист2!G238 -> 263 | H15: =[2]Лист2!H238 -> 4.4 | I15: =[2]Лист2!I238 -> 13.8 | J15: =[2]Лист2!J238 -> 30
B16: хол напиток | C16: =[2]Лист2!C239 -> 184 | D16: =[2]Лист2!D239 -> Чай с сахаром | E16: =[2]Лист2!E239 -> 200 | F16: =[2]Лист2!F239 -> 10 | G16: =[2]Лист2!G239 -> 56.8 | H16: =[2]Лист2!H239 -> 0.06 | I16: =[2]Лист2!I239 -> 0 | J16: =[2]Лист2!J239 -> 14.98
B17: хлеб бел | C17: =[2]Лист2!$C$240 -> 45658 | D17: =[2]Лист2!D240 -> Хлеб пшеничный | E17: =[2]Лист2!E240 -> 50 | F17: =[2]Лист2!F240 -> 5 | G17: =[2]Лист2!G240 -> 70.5 | H17: =[2]Лист2!H240 -> 2.2 | I17: =[2]Лист2!I240 -> 0.24 | J17: =[2]Лист2!J240 -> 15
B18: хлеб рж | C18: =[2]Лист2!C241 -> 45689 | D18: =[2]Лист2!D241 -> Хлеб ржаной | E18: =[2]Лист2!E241 -> 50 | F18: =[2]Лист2!F241 -> 5 | G18: =[2]Лист2!G241 -> 63 | H18: =[2]Лист2!H241 -> 1.5 | I18: =[2]Лист2!I241 -> 0.3 | J18: =[2]Лист2!J241 -> 14
C19: =[2]Лист2!C242 -> 0 | D19: =[2]Лист2!D242 -> Итого: | E19: =[2]Лист2!E242 -> 0 | F19: =[2]Лист2!F242 -> 110 | G19: =[2]Лист2!G242 -> 793.3 | H19: =[2]Лист2!H242 -> 26.26 | I19: =[2]Лист2!I242 -> 33.94 | J19: =[2]Лист2!J242 -> 96.28
