Workbook

Sheet 1
A1: Школа | B1: МБОУ Башкирская гимназия с. Учалы МР Учалинский район РБ | E1: Отд./корп | I1: День | J1: 45909
A3: Прием пищи | B3: Раздел | C3: № рец. | D3: Блюдо | E3: Выход, г | F3: Цена | G3: Калорийность | H3: Белки | I3: Жиры | J3: Углеводы
A4: Завтрак | B4: гор. блюдо | C4: 98 | D4: =[1]Лист2!D95 -> Котлета рубленные из курицы | E4: =[1]Лист2!E95 -> 90 | F4: =[1]Лист2!F95 -> 45 | G4: =[1]Лист2!G95 -> 178 | H4: =[1]Лист2!H95 -> 10 | I4: =[1]Лист2!I95 -> 11 | J4: =[1]Лист2!J95 -> 10
B5: гарнир | C5: 138 | D5: =[1]Лист2!D96 -> Пюре картофельное с маслом слив | E5: =[1]Лист2!E96 -> 250 | F5: =[1]Лист2!F96 -> 25 | G5: =[1]Лист2!G96 -> 263 | H5: =[1]Лист2!H96 -> 4.1 | I5: =[1]Лист2!I96 -> 14 | J5: =[1]Лист2!J96 -> 30
B6: гор.напиток | C6: 15.3 | D6: =[1]Лист2!D97 -> Чай с сахаром | E6: =[1]Лист2!E97 -> 200 | F6: =[1]Лист2!F97 -> 15 | G6: =[1]Лист2!G97 -> 95 | H6: =[1]Лист2!H97 -> 0 | I6: =[1]Лист2!I97 -> 0 | J6: =[1]Лист2!J97 -> 24
B7: конд. Изд
B8: хлеб | C8: =[1]Лист2!C98 -> 1.1 | D8: =[1]Лист2!D98 -> Хлеб пшеничный | E8: =[1]Лист2!E98 -> 50 | F8: =[1]Лист2!F98 -> 5 | G8: =[1]Лист2!G98 -> 130 | H8: =[1]Лист2!H98 -> 4 | I8: =[1]Лист2!I98 -> 0.05 | J8: =[1]Лист2!J98 -> 27.5
A9: Завтрак 2 | D9: =[1]Лист2!D99 -> итого | E9: =[1]Лист2!E99 -> 0 | F9: =[1]Лист2!F99 -> 90 | G9: =[1]Лист2!G99 -> 666 | H9: =[1]Лист2!H99 -> 18.1 | I9: =[1]Лист2!I99 -> 25.05 | J9: =[1]Лист2!J99 -> 91.5
B12: закуска
A13: Обед | B13: 1 блюдо | C13: 18 | D13: Суп из овощей со сметаной | E13: 250 | F13: 25 | G13: 86 | H13: 1.6 | I13: 4.9 | J13: 8.6
B14: 2 блюдо | C14: 91 | D14: Гуляш из отварной говядины | E14: 90 | F14: 40 | G14: 381 | H14: 26 | I14: 28 | J14: 7
B15: гарнир | C15: 212 | D15: Макаронные изделия отварные | E15: 200 | F15: 20 | G15: 211 | H15: 6 | I15: 4 | J15: 37
B16: хол напиток | C16: 184 | D16: Чай с сахаром | E16: 200 | F16: 10 | G16: 56.8 | H16: 0.06 | I16: 0 | J16: 14.98
B17: хлеб бел | C17: 45658 | D17: Хлеб пшеничный | E17: 50 | F17: 5 | G17: 70.5 | H17: 2.2 | I17: 0.24 | J17: 15
B18: хлеб рж | C18: 45689 | D18: Хлеб ржаной | E18: 50 | F18: 5 | G18: 63 | H18: 1.5 | I18: 0.3 | J18: 14
D19: Итого: | F19: 105 | G19: 877.5 | H19: 37.3 | I19: 37.44 | J19: 91.6
