Workbook

Sheet 1
A1: Школа | B1: МБОУ Башкирская гимназия с. Учалы МР Учалинский район РБ | E1: Отд./корп | I1: День | J1: 45908
A3: Прием пищи | B3: Раздел | C3: № рец. | D3: Блюдо | E3: Выход, г | F3: Цена | G3: Калорийность | H3: Белки | I3: Жиры | J3: Углеводы
A4: Завтрак | B4: гор. блюдо | C4: 42 | D4: Каша овсяная "Геркулес" вязкая с маслом слив | E4: 210 | F4: 20 | G4: 272 | H4: 9 | I4: 10 | J4: 38
B5: гарнир
B6: гор.напиток | C6: 289 | D6: Какао с молоком | E6: 200 | F6: 10 | G6: 111 | H6: 4 | I6: 4 | J6: 16
B7: конд. Изд | C7: 368 | D7: Фрукты свежие | E7: 200 | F7: 25 | G7: 190 | H7: 3 | I7: 1 | J7: 42
B8: хлеб | C8: 1.1 | D8: Хлеб пшеничный | E8: 50 | F8: 5 | G8: 130 | H8: 4 | I8: 0.05 | J8: 27.5
A9: Завтрак 2 | D9: =[1]Лист2!E85 -> 0 | E9: =[1]Лист2!F85 -> 60 | F9: =[1]Лист2!G85 -> 703 | G9: =[1]Лист2!H85 -> 20 | H9: =[1]Лист2!I85 -> 15.05 | I9: =[1]Лист2!J85 -> 123.5 | J9: =[1]Лист2!K85 -> 0
B12: закуска
A13: Обед | B13: 1 блюдо | C13: =[1]Лист2!C86 -> 11 | D13: =[1]Лист2!D86 -> Щи из свежей капусты с картофелем со сметаной | E13: =[1]Лист2!E86 -> 250 | F13: =[1]Лист2!F86 -> 25 | G13: =[1]Лист2!G86 -> 78 | H13: =[1]Лист2!H86 -> 1.4 | I13: =[1]Лист2!I86 -> 4.9 | J13: =[1]Лист2!J86 -> 7
B14: 2 блюдо | C14: =[1]Лист2!C87 -> 80 | D14: =[1]Лист2!D87 -> Котлеты рыбные | E14: =[1]Лист2!E87 -> 90 | F14: =[1]Лист2!F87 -> 40 | G14: =[1]Лист2!G87 -> 201 | H14: =[1]Лист2!H87 -> 15 | I14: =[1]Лист2!I87 -> 10 | J14: =[1]Лист2!J87 -> 12
B15: гарнир | C15: =[1]Лист2!C88 -> 133 | D15: =[1]Лист2!D88 -> Рис припущенный | E15: =[1]Лист2!E88 -> 200 | F15: =[1]Лист2!F88 -> 15 | G15: =[1]Лист2!G88 -> 184 | H15: =[1]Лист2!H88 -> 6 | I15: =[1]Лист2!I88 -> 8 | J15: =[1]Лист2!J88 -> 25
B16: хол напиток | C16: =[1]Лист2!C89 -> 276 | D16: =[1]Лист2!D89 -> Компот из смеси сухофруктов | E16: =[1]Лист2!E89 -> 200 | F16: =[1]Лист2!F89 -> 10 | G16: =[1]Лист2!G89 -> 110 | H16: =[1]Лист2!H89 -> 1 | I16: =[1]Лист2!I89 -> 0.05 | J16: =[1]Лист2!J89 -> 27.5
B17: хлеб бел | C17: =[1]Лист2!C90 -> 1.1 | D17: =[1]Лист2!D90 -> Хлеб пшеничный | E17: =[1]Лист2!E90 -> 50 | F17: =[1]Лист2!F90 -> 5 | G17: =[1]Лист2!G90 -> 70.5 | H17: =[1]Лист2!H90 -> 2.2 | I17: =[1]Лист2!I90 -> 0.24 | J17: =[1]Лист2!J90 -> 15
B18: хлеб рж | C18: =[1]Лист2!C91 -> 1.2 | D18: =[1]Лист2!D91 -> Хлеб ржаной | E18: =[1]Лист2!E91 -> 50 | F18: =[1]Лист2!F91 -> 5 | G18: =[1]Лист2!G91 -> 63 | H18: =[1]Лист2!H91 -> 1.5 | I18: =[1]Лист2!I91 -> 0.3 | J18: =[1]Лист2!J91 -> 14
D19: =[1]Лист2!D92 -> Итого: | F19: =[1]Лист2!F92 -> 100 | G19: =[1]Лист2!G92 -> 706.5 | H19: =[1]Лист2!H92 -> 27.1 | I19: =[1]Лист2!I92 -> 23.49 | J19: =[1]Лист2!J92 -> 100.5
