{"text_format":"3","workbook":"xlsx","n_sheets":1,"sheets":["1"],"not_rendered":{"external_links":1},"read":"whole","date_system":"1900"}

{"sheet":"1","index":0,"n_rows":19,"n_cols":10,"rows_kept":19,"merged":[[0,1,0,3]]}
["Школа","МБОУ Башкирская гимназия с. Учалы МР Учалинский район РБ",null,null,"Отд./корп",{"$nulls":3},"День","2025-09-05"]
[]
["Прием пищи","Раздел","№ рец.","Блюдо","Выход, г","Цена","Калорийность","Белки","Жиры","Углеводы"]
["Завтрак","гор. блюдо","268","Котлеты из говядины",90,52,254,17,19,4.5]
[null,"гарнир","212","Бобовые отварные со слив. маслом",205,20,270,7.7,4.5,49]
[null,"гор.напиток","196","Компот из смеси сухофруктов",200,10,110,1,0.05,27.5]
[null,"конд. Изд"]
[null,"хлеб","1.1","Хлеб пшеничный ",{"$f":"[1]Лист2!E71","v":50},{"$f":"[1]Лист2!F71","v":5},{"$f":"[1]Лист2!G71","v":130},{"$f":"[1]Лист2!H71","v":4},{"$f":"[1]Лист2!I71","v":0.05},{"$f":"[1]Лист2!J71","v":27.5}]
["Завтрак 2",null,null,"итого",null,{"$f":"[1]Лист2!F72","v":87},{"$f":"[1]Лист2!G72","v":764},{"$f":"[1]Лист2!H72","v":29.7},{"$f":"[1]Лист2!I72","v":23.6},{"$f":"[1]Лист2!J72","v":108.5}]
[]
[]
[null,"закуска"]
["Обед","1 блюдо","54",{"$f":"[1]Лист2!D73","v":"Суп-лапша домашняя "},{"$f":"[1]Лист2!E73","v":250},{"$f":"[1]Лист2!F73","v":25},{"$f":"[1]Лист2!G73","v":98.42},{"$f":"[1]Лист2!H73","v":2.34},{"$f":"[1]Лист2!I73","v":4.67},{"$f":"[1]Лист2!J73","v":11.72}]
[null,"2 блюдо","146",{"$f":"[1]Лист2!D74","v":"Запеканка картофельная с мясом с соусом томатным"},{"$f":"[1]Лист2!E74","v":200},{"$f":"[1]Лист2!F74","v":40},{"$f":"[1]Лист2!G74","v":277},{"$f":"[1]Лист2!H74","v":13.2},{"$f":"[1]Лист2!I74","v":14.7},{"$f":"[1]Лист2!J74","v":22.4}]
[null,"гарнир","146",{"$f":"[1]Лист2!D75","v":"Чай с сахаром"},{"$f":"[1]Лист2!E75","v":200},{"$f":"[1]Лист2!F75","v":10},{"$f":"[1]Лист2!G75","v":56.8},{"$f":"[1]Лист2!H75","v":0.06},{"$f":"[1]Лист2!I75","v":0},{"$f":"[1]Лист2!J75","v":14.98}]
[null,"хол напиток","196"]
[null,"хлеб бел","1.1",{"$f":"[1]Лист2!D76","v":"Хлеб пшеничный "},{"$f":"[1]Лист2!E76","v":50},{"$f":"[1]Лист2!F76","v":5},{"$f":"[1]Лист2!G76","v":130},{"$f":"[1]Лист2!H76","v":4},{"$f":"[1]Лист2!I76","v":0.05},{"$f":"[1]Лист2!J76","v":27.5}]
[null,"хлеб рж","1.2",{"$f":"[1]Лист2!D77","v":"Хлеб ржаной"},{"$f":"[1]Лист2!E77","v":50},{"$f":"[1]Лист2!F77","v":5},{"$f":"[1]Лист2!G77","v":63},{"$f":"[1]Лист2!H77","v":1.5},{"$f":"[1]Лист2!I77","v":0.3},{"$f":"[1]Лист2!J77","v":14}]
[{"$nulls":3},{"$f":"[1]Лист2!D78","v":"Итого:"},{"$f":"[1]Лист2!E78","v":0},{"$f":"[1]Лист2!F78","v":85},{"$f":"[1]Лист2!G78","v":625.22},{"$f":"[1]Лист2!H78","v":21.1},{"$f":"[1]Лист2!I78","v":19.72},{"$f":"[1]Лист2!J78","v":90.6}]